BEGIN:VCALENDAR
VERSION:2.0
PRODID:-//Serateanapoli.it - ECPv6.15.20//NONSGML v1.0//EN
CALSCALE:GREGORIAN
METHOD:PUBLISH
X-ORIGINAL-URL:https://serateanapoli.it
X-WR-CALDESC:Eventi per Serateanapoli.it
REFRESH-INTERVAL;VALUE=DURATION:PT1H
X-Robots-Tag:noindex
X-PUBLISHED-TTL:PT1H
BEGIN:VTIMEZONE
TZID:Europe/Rome
BEGIN:DAYLIGHT
TZOFFSETFROM:+0100
TZOFFSETTO:+0200
TZNAME:CEST
DTSTART:20210328T010000
END:DAYLIGHT
BEGIN:STANDARD
TZOFFSETFROM:+0200
TZOFFSETTO:+0100
TZNAME:CET
DTSTART:20211031T010000
END:STANDARD
BEGIN:DAYLIGHT
TZOFFSETFROM:+0100
TZOFFSETTO:+0200
TZNAME:CEST
DTSTART:20220327T010000
END:DAYLIGHT
BEGIN:STANDARD
TZOFFSETFROM:+0200
TZOFFSETTO:+0100
TZNAME:CET
DTSTART:20221030T010000
END:STANDARD
BEGIN:DAYLIGHT
TZOFFSETFROM:+0100
TZOFFSETTO:+0200
TZNAME:CEST
DTSTART:20230326T010000
END:DAYLIGHT
BEGIN:STANDARD
TZOFFSETFROM:+0200
TZOFFSETTO:+0100
TZNAME:CET
DTSTART:20231029T010000
END:STANDARD
BEGIN:DAYLIGHT
TZOFFSETFROM:+0100
TZOFFSETTO:+0200
TZNAME:CEST
DTSTART:20240331T010000
END:DAYLIGHT
BEGIN:STANDARD
TZOFFSETFROM:+0200
TZOFFSETTO:+0100
TZNAME:CET
DTSTART:20241027T010000
END:STANDARD
END:VTIMEZONE
BEGIN:VEVENT
DTSTART;TZID=Europe/Rome:20230101T010000
DTEND;TZID=Europe/Rome:20230101T070000
DTSTAMP:20260425T205342
CREATED:20221228T161207Z
LAST-MODIFIED:20221229T074127Z
UID:89802-1672534800-1672556400@serateanapoli.it
SUMMARY:Duel Club Napoli - Veglionissimo di Capodanno 2023
DESCRIPTION:DUEL Club Napoli\n \nSabato 31 Dicembre 2022\nDuel Club presenta\nVeglionissimo di Capodanno 2023 \nDESCRIZIONE Party: Duel Club Napoli\n\nFesteggia insieme a noi l’arrivo del 2023 🎉\nIl 31 Dicembre vi Invitiamo al DUEL Club per il Capodanno 2023 – \nDopo 2 anni \, abbiamo taanto da festeggiare !! \n𝐈𝐥 𝐏𝐚𝐫𝐭𝐲 𝐝𝐢 𝐂𝐚𝐩𝐨𝐝𝐚𝐧𝐧𝐨! ▪︎ 𝐃𝐔𝐄𝐋 𝐂𝐥𝐮𝐛 ▪︎ 𝐍𝐘𝐄 𝟐𝟎𝟐𝟑 🎩🥂ғʀᴏᴍ ᴛʜᴇ ғᴜᴛᴜʀᴇ – 𝗦𝗮𝗯𝗮𝘁𝗼 𝟯𝟭 𝗗𝗶𝗰𝗲𝗺𝗯𝗿𝗲 \nSTART Disco dalle ore 01:00\nTICKET INGRESSO € 35 con drink \nTAVOLI Champagneria su prenotazione \nFormula Base\n500 euro con \n2 distillati\n1 Prosecco\ne 10 pass \nFormule Premium\n600-700 euro (In base alla posizione tav)\ncon 2 premium\n1 Prosecco\ne 10 pass \nTavoli in Consolle\n100 euro a persona \n \n\n\nFORMULA Veglione DUEL Club Napoli\nSolo Veglione 35€ a persona con drink\nTavoli champagneria su prenotazione \nCOME RAGGIUNGERE\nVia Antiniana 2/A 80078 Pozzuoli\, Napoli \n\n\n********* \nX Info \, prenotazione Tavoli e Trattamento esclusivo:\nRAFFAELE 351.5220841\nLINO  327.6926057\n \n\n***** \nX TUTTI I VEGLIONI IN PROGRAMMA QUESTO CAPODANNO CLICCA QUI:\nCAPODANNO NAPOLI 2023 \nX TUTTI I CENONI IN PROGRAMMA QUESTO CAPODANNO CLICCA QUI:\nCENONI CAPODANNO NAPOLI 2023 \nX tenerti aggiornato sui nostri eventi aggiungiti alla nostra fan page :\nFan Page SERATE A NAPOLI \nhttp://serateanapoli.it/wp-content/uploads/2022/12/Duel-Club-Napoli-Video-Capodanno-2023.mp4\n\n \n \n \nhttp://serateanapoli.it/wp-content/uploads/2022/12/WhatsApp-Video-2022-12-22-at-12.45.52.mp4
URL:https://serateanapoli.it/event/duel-club-napoli-veglionissimo-di-capodanno-2023/
LOCATION:DUEL BEAT NAPOLI – Discoteca – Via Antiniana\, Pozzuoli\, Via Antiniana\, Pozzuoli\, 80078\, Italia
CATEGORIES:Capodanno
ATTACH;FMTTYPE=image/jpeg:https://serateanapoli.it/wp-content/uploads/2022/12/Duel-Club-Napoli-Veglione-Capodanno-2023.jpg
END:VEVENT
BEGIN:VEVENT
DTSTART;TZID=Europe/Rome:20221228T203000
DTEND;TZID=Europe/Rome:20221228T223000
DTSTAMP:20260425T205342
CREATED:20221211T204331Z
LAST-MODIFIED:20221229T073546Z
UID:89583-1672259400-1672266600@serateanapoli.it
SUMMARY:PRIME Pozzuoli - Cenone di Capodanno 2023
DESCRIPTION:Prime Pozzuoli\n \nSabato 31 Dicembre 2022\nPrime Pozzuoli presenta\nGran Cenone e Veglione di Capodanno 2023 \n \nDescrizione Cenone di Capodanno Prime Pozzuoli\n31 Dicembre: Giornata Mondiale del “Che cosa fai tu stasera?\nLa scelta è chiara… “Festeggio il Capodanno Al Prime! \nTrascorri tra amici il Cenone di Capodanno al Prime.\nPer tutti coloro che desiderano trascorrere una piacevole serata in compagnia di buona musica live che spesso completa la serata ma\, soprattutto\, godendo l’ottima cucina con piatti prelibati realizzati con cura dal nostro staff. \nPuoi scegliere tra diversi menù: mare\, terra\, vegetariano e gluten free.\nPer i tuoi piccoli ci sarà l’animazione ed un menù tutto per loro.\nE dopo le 24….tutti a ballare sulle note del Dj set con Musica Dance e Revival \n“Natale con i tuoi\, Capodanno con il Prime!”\nFesteggiamo insieme l’ultimo giorno dell’anno! Musica live\, tante sorprese culinarie del nostro chef e\, soprattutto\, tanto\, tanto divertimento! \nLive Music & Dj Set \nX Info Generali e Prenotazione Tavoli CHIAMACI:\nRAFFAELE 351.5220841\nLINO 327.6926057\n \n\nMenù Cenone Adulti MARE – 120€ a persona \nENTREE DI BENVENUTO\nSalmone scottato al sesamo con Pomodorini confit e Timo\nProsecco Treviso Doc – Tenuta Guardian \nANTIPASTI\nInsalata di Polpo con finocchi ai tre datterini\nJulienne di seppia e peperoni in agrodolce glassati\nTartare di tonno rosso al sale blu\nArancino alla pescatora\nGamberoni croccanti con panure di cipolla essiccata e Mayo Teriyaki\nCalamaro alla pizzaiola ripieno di provola affumicata di agerola\nBaccalà Pastellato fritto servito con insalata di rinforzo \nPRIMO PIATTO\nMezzo pacchero ai frutti di mare \nSECONDO\nFiletto di branzino su ratatouille di verdure e patè di patate viola \nCOME DA TADIZIONE\nCotechino e Lenticchie benauguranti \nPER IL COUNTDOWN\nFrutta\nPanettone\nSpumante Brut gran Cuveè – Villa D’Arfanta \nAcqua Panna e San Pellegrino\nVino Falanghina e/o Piedirosso – Villa Mirabilis (Campi Flegrei)\nIncluso 1 bottiglia di vino 0gni 4 persone \n\nMenù Cenone Adulti TERRA – 120€ a persona \nENTREE DI BENVENUTO\nRocher di ricotta e mandorle\nProsecco Treviso Doc – Tenuta Guardian \nANTIPASTI\nRoll di zucchine marinate alla menta con provolone del monaco rucola e speck\nDegustazione di salumi e formaggi Dop e mozzarella di bufala\nCanapè con mousse di ricotta e mortadella con granella di pistacchio del bronte\nFlan di parmigiana bianca\nPacchero fritto ripieno con salsiccia\, provola e crema di broccoli\nTimballo di ziti alla genovese in pasta fillo\nBaccalà pastellato fritto servito con insalata di rinforzo \nPRIMO PIATTO\nFusilli avellinesi con porcini e salsiccia di maialino nero casertano \nSECONDO\nBoulette ripiena di friarielli e provola glassata con fonduta di formaggi \nCOME DA TADIZIONE\nCotechino e Lenticchie benauguranti \nPER IL COUNTDOWN\nFrutta\nPanettone\nSpumante Brut gran Cuveè – Villa D’Arfanta \nAcqua Panna e San Pellegrino\nVino Falanghina e/o Piedirosso – Villa Mirabilis (Campi Flegrei)\nIncluso 1 bottiglia di vino 0gni 4 persone \nMenù Bambini 60€ con Animazione \nAntipasti\nMontanara al sugo\nCrocchè di patate\nBacetti con prosciutto cotto\, mayonese e insalata\nWurstel in pasta sfoglia \nPRIMO PIATTO\nGnocchi alla sorrentina \nSECONDO PIATTO\nCotoletta di pollo con panure di cornflakes e patatine fritte home made \nAcqua e bibite analcoliche \n \n\n\nFORMULA Cenone di Capodanno Prime Pozzuoli\nInizio cenone: ore 20.30\nCenone Adulti 120€ ( Veglione Omaggio)\nMenù Bambini con animazione 60€ \nAffrettati a prenotare. Posti limitati \nCOME RAGGIUNGERE Prime Pozzuoli\nIndirizzo: Via Campana\, n 262 Pozzuoli Napoli \n********** \nX Info Generali e Prenotazione Tavoli CHIAMACI:\nRAFFAELE 351.5220841\nLINO 327.6926057 \n***** \n\nX TUTTI I CENONI IN PROGRAMMA QUESTO CAPODANNO CLICCA QUI:\nCENONI CAPODANNO NAPOLI 2023
URL:https://serateanapoli.it/event/prime-pozzuoli-cenone-di-capodanno-2023/
LOCATION:Prime Pozzuoli – Via Campana\, 260\, Prime Pozzuoli - via campana\, 260\, Pozzuoli\, 80078\, Italia
CATEGORIES:Cenone
ATTACH;FMTTYPE=image/jpeg:https://serateanapoli.it/wp-content/uploads/2022/12/Prime-Pozzuoli-Locandina-Capodanno-2023.jpg
END:VEVENT
END:VCALENDAR