BEGIN:VCALENDAR
VERSION:2.0
PRODID:-//Serateanapoli.it - ECPv6.15.20//NONSGML v1.0//EN
CALSCALE:GREGORIAN
METHOD:PUBLISH
X-WR-CALNAME:Serateanapoli.it
X-ORIGINAL-URL:https://serateanapoli.it
X-WR-CALDESC:Eventi per Serateanapoli.it
REFRESH-INTERVAL;VALUE=DURATION:PT1H
X-Robots-Tag:noindex
X-PUBLISHED-TTL:PT1H
BEGIN:VTIMEZONE
TZID:Europe/Rome
BEGIN:DAYLIGHT
TZOFFSETFROM:+0100
TZOFFSETTO:+0200
TZNAME:CEST
DTSTART:20210328T010000
END:DAYLIGHT
BEGIN:STANDARD
TZOFFSETFROM:+0200
TZOFFSETTO:+0100
TZNAME:CET
DTSTART:20211031T010000
END:STANDARD
BEGIN:DAYLIGHT
TZOFFSETFROM:+0100
TZOFFSETTO:+0200
TZNAME:CEST
DTSTART:20220327T010000
END:DAYLIGHT
BEGIN:STANDARD
TZOFFSETFROM:+0200
TZOFFSETTO:+0100
TZNAME:CET
DTSTART:20221030T010000
END:STANDARD
BEGIN:DAYLIGHT
TZOFFSETFROM:+0100
TZOFFSETTO:+0200
TZNAME:CEST
DTSTART:20230326T010000
END:DAYLIGHT
BEGIN:STANDARD
TZOFFSETFROM:+0200
TZOFFSETTO:+0100
TZNAME:CET
DTSTART:20231029T010000
END:STANDARD
BEGIN:DAYLIGHT
TZOFFSETFROM:+0100
TZOFFSETTO:+0200
TZNAME:CEST
DTSTART:20240331T010000
END:DAYLIGHT
BEGIN:STANDARD
TZOFFSETFROM:+0200
TZOFFSETTO:+0100
TZNAME:CET
DTSTART:20241027T010000
END:STANDARD
END:VTIMEZONE
BEGIN:VEVENT
DTSTART;TZID=Europe/Rome:20221231T210000
DTEND;TZID=Europe/Rome:20230101T050000
DTSTAMP:20260425T205132
CREATED:20221212T225649Z
LAST-MODIFIED:20221231T081822Z
UID:89703-1672520400-1672549200@serateanapoli.it
SUMMARY:Common Ground Napoli - Cenone e Veglione di Capodanno 2023
DESCRIPTION:Common Ground Napoli\n \nSabato 31 Dicembre 2022\nCommon Ground presenta\nCenone e Veglionissimo di Capodanno 2023 \nDESCRIZIONE Evento: Common Ground Napoli\n\nFesteggia insieme a noi l’arrivo del 2023 🎉\nIl 31 Dicembre vi Invitiamo al Common Ground per il Capodanno esclusivo a Napoli – \nCena Spettacolo dalle ore 21:00\nPost cena dalle ore 01:00 \n*Live Dinner Show & Dj Set \nad allietare la serata \nCenone + Veglione 130€ a persona\nTavoli champagneria su prenotazione \nX Info Generali e Prenotazione Tavoli CHIAMACI:\nRAFFAELE 351.5220841\nLINO 327.6926057 \n\n\nMenù Cenone – 130€ a persona\nPosti limitati \nWelcome Drink\nCrostini con burro e salmone affumicato \nAntipasto\nGambero in pasta Kataifi con salsa mango e curry\nTacos con seppie del mediterraneo\, misticanza di verdure e glassa di aceto balsamico\nSalmone Marinato con chicci di pepe rosa e rucola\nPolpo alla siciliana con capperi di Pantelleria ed olive nere di Gaeta\nRiduzione di ricotta di fuscella con granella di nocciole \nPrimo Piatto\nRisotto ai gamberi con lime e menta \nSecondo piatto\nFiletto di spigola di orbetello in crosta di patate con riduzione di agrumi \nCentro Tavola di Lenticchie  \nDessert\nPanettone artigianale e frutta secca \nIncluso servizio\, coperto\, Acqua\, vino (1 bott ogni 4 px) e Spumante per il brindisi di mezzanotte. \n\n \nFORMULA CENONE Common Ground Napoli\nCena Spettacolo dalle ore 21:00\nPost cena dalle ore 01:00 \nCenone + Veglione 130€ a persona\nTavoli champagneria su prenotazione \nCOME RAGGIUNGERE Common Ground Napoli\nVia Scarfoglio 7b\, Napoli\n\n\n********** \nNON ASPETTARE. X Info Generali e Prenotazione Tavoli CHIAMACI:\nRAFFAELE : 3515220841\nLINO 327.6926057 \n***** \n\n\n\nX TUTTI I CENONI IN PROGRAMMA QUESTO CAPODANNO CLICCA QUI:\nCENONI CAPODANNO NAPOLI 2023 \nX tenerti aggiornato sui nostri eventi aggiungiti alla nostra fan page :\nFan Page SERATE A NAPOLI \nhttp://serateanapoli.it/wp-content/uploads/2022/12/WhatsApp-Video-2022-12-21-at-15.55.46.mp4\nhttp://serateanapoli.it/wp-content/uploads/2019/12/WhatsApp-Video-2019-12-12-at-12.20.52.mp4
URL:https://serateanapoli.it/event/common-ground-napoli-cenone-e-veglione-di-capodanno-2023/
LOCATION:Common Ground Napoli\, via scarfoglio 7\, napoli\, 80125\, Italia
CATEGORIES:Cenone
ATTACH;FMTTYPE=image/jpeg:https://serateanapoli.it/wp-content/uploads/2022/12/Common-Ground-Napoli-Locandina.jpg
END:VEVENT
END:VCALENDAR